Workbook
Name AEFKKSW_413.21: KSW!$V$80
Name AEFKKSW_527.40: KSW!$W$80
Name AEFKKSW_529.40: KSW!$X$80
Name AEFKKSW_531.40: KSW!$Y$80
Name AEFKM_I_413.21: M_I!$V$78
Name AEFKM_I_527.40: M_I!$W$78
Name AEFKM_I_529.40: M_I!$X$78
Name AEFKM_I_531.40: M_I!$Y$78
Name AEFKPSY_413.21: PSY!$V$66
Name AEFKPSY_527.40: PSY!$W$66
Name AEFKPSY_529.40: PSY!$X$66
Name AEFKPSY_531.40: PSY!$Y$66
Name AEFKRewi_413.21: ReWi!$V$70
Name AEFKRewi_527.40: ReWi!$W$70
Name AEFKRewi_529.40: ReWi!$X$70
Name AEFKRewi_531.40: ReWi!$Y$70
Name AEFKWiwi_413.21: KSW!$V$80
Name AEFKWiwi_413.21: M_I!$V$78
Name AEFKWiwi_413.21: PSY!$V$66
Name AEFKWiwi_413.21: ReWi!$V$70
Name AEFKWiwi_413.21: WiWi!$P$66
Name AEFKWiwi_527.40: KSW!$W$80
Name AEFKWiwi_527.40: M_I!$W$78
Name AEFKWiwi_527.40: PSY!$W$66
Name AEFKWiwi_527.40: ReWi!$W$70
Name AEFKWiwi_527.40: WiWi!$Q$66
Name AEFKWiwi_529.40: KSW!$X$80
Name AEFKWiwi_529.40: M_I!$X$78
Name AEFKWiwi_529.40: PSY!$X$66
Name AEFKWiwi_529.40: ReWi!$X$70
Name AEFKWiwi_529.40: WiWi!$R$66
Name AEFKWiwi_531.40: KSW!$Y$80
Name AEFKWiwi_531.40: M_I!$Y$78
Name AEFKWiwi_531.40: PSY!$Y$66
Name AEFKWiwi_531.40: ReWi!$Y$70
Name AEFKWiwi_531.40: WiWi!$S$66
Name AStA_Bew.Ext.: Haushalt!$H$178
Name AStA_Bew.Int.: Haushalt!$H$158
Name AStA_Druck: Haushalt!$H$180
Name AStA_Einn.Bew.: Haushalt!$H$24
Name AStA_Ext.RK: Haushalt!$H$177
Name AStA_Hon_I: Haushalt!$H$175
Name AStA_Hon_II: Haushalt!$H$176
Name AStA_R_U_Ext.: Haushalt!$H$179
Name AStA_R_U_Int.: Haushalt!$H$147
Name AStA_Referate: Haushalt!$H$97
Name AStA_RK_Int.: Haushalt!$H$135
Name AStA_SKP: Haushalt!$H$99
Name AStA_Sonst.: Haushalt!$H$181
Name AStA_TN_2: Haushalt!$H$20
Name AStA_TN_I: Haushalt!$H$19
Name AStA_VBG: Haushalt!$H$100
Name Beschäft._VBG: Haushalt!$H$107
Name BHS_II: Tabelle211123957[[#Totals],[Betrag]]
Name BHS_II: Tabelle211123957[[#Totals],[Betrag]]
Name BHS_II: Tabelle211123957[[#Totals],[Betrag]]
Name BHS_II: Tabelle211123957[[#Totals],[Betrag]]
Name BR_Besch.: Haushalt!$H$106
Name BR_Beschäft.: Haushalt!$H$106
Name Bundesknappschaft: Haushalt!$H$98

Sheet Haushalt
A1: AStA-Entwurf Nachtragshaushaltsplan 2024-2025 und Haushaltsplan 2024-2025
A3: Einnahmen der Studierendenschaft
I4: Referentenentwurf | K4: Stand: 31.07.2024 | M4: Stand: 30.09.2023 | P4: Stand 30.09.22
A5: Titel | B5: Spalte1 | C5: Datev SKR 42 | D5: Sphäre | E5: Bereich/OE | F5: Sachkonten Fibu | G5: Titel alt | H5: Kontenbezeichnung | I5: SOLL HHJ 24-25 | J5: Nachtrag HHJ 23-24 | K5: IST HHJ 23-24 | L5: SOLL HHJ 23-24 | M5: IST HHJ 22-23 | N5: SOLL HHJ 22-23 | O5: SOLL HHJ 21-22 | P5: IST HHJ 21-22 | Q5: SOLL 20-21 | R5: IST 20-21 | S5: IST HHJ 22-23 31.10.2022 | T5: IST HHJ 22-23 30.11.2022 | U5: IST HHJ 22-23 15.12.2022 | V5: Spalte2 | W5: Anmerkungen
A6: Plan 1 | B6: =ROW(B1) -> 1 | H6: Einnahmen AStA und Studierendenparlament | I6: =I7+I11++I18+I23+I27+I32 -> 556600 | J6: =J7+J11++J18+J23+J27+J32 -> 1064521.2 | K6: =K7+K11++K18+K23+K27+K32 -> 1028270 | L6: =L7+L11++L18+L23+L27+L32 -> 774226.25 | M6: =M7+M11++M18+M23+M27+M32 -> 1076480.4 | N6: =N7+N11++N18+N23+N27+N32 -> 1076950 | O6: =O7+O11++O18+O23+O27+O32 -> 600000 | P6: =P7+P11++P18+P23+P27+P32 -> 591157.19 | ... U6: =U7+U11++U18+U23+U27+U32 -> 490824.83
A7: 111.00 | B7: =ROW(B2) -> 2 | H7: Studierendenschaftsbeiträge | I7: =SUBTOTAL(9,I8:I9) -> 537000 | J7: =SUBTOTAL(9,J8:J9) -> 1053021.2 | K7: =SUBTOTAL(9,K8:K9) -> 1023380.8 | L7: =SUBTOTAL(9,L8:L9) -> 752600 | M7: =SUBTOTAL(9,M8:M9) -> 1066613.4 | N7: =SUBTOTAL(9,N8:N9) -> 1044000 | O7: =SUBTOTAL(9,O8:O9) -> 560000 | P7: =SUBTOTAL(9,P8:P9) -> 578722.64 | ... U7: =SUBTOTAL(9,U8:U9) -> 487889.83 | W7: Aktuell werden entgegen dem SP-Beschluss 9 € eingezogen.
A8: 111.10 | B8: 4000 | C8: 4000 | D8: 1 | G8: 341.00 (x0) | H8: Wintersemester | I8: 535000 | J8: 523021.18 | K8: =VLOOKUP(Tabelle1[[#This Row],[Titel]],[2]Haushalt!$A:$S,19,FALSE) -> 1023380.8 | L8: =(53000*9)*1.05 -> 500850 | M8: =VLOOKUP(Tabelle1[[#This Row],[Titel]],[3]Haushalt!$A$8:$W$282,8,FALSE) -> 1066613.4 | N8: =(58000*9)*1.05 -> 548100 | O8: 0 | S8: =HHJ_2022_2023!H24 -> 255005.45 | T8: =HHJ_2022_2023!J24 -> 455812.12 | U8: =HHJ_2022_2023!L24 -> 487889.83 | W8: Es wird versucht eine Möglichkeit zu finden, dies über das HHJ auszugleichen
A9: 111.20 | B9: =ROW(B4) -> 4 | C9: 4000 | D9: 1 | G9: 341.00 (x1) | H9: Sommersemester | I9: 2000 | J9: 530000 | K9: =VLOOKUP(Tabelle1[[#This Row],[Titel]],[2]Haushalt!$A:$S,19,FALSE) -> 0 | L9: =(53000*5)*0.95 -> 251750 | M9: =VLOOKUP(Tabelle1[[#This Row],[Titel]],[3]Haushalt!$A$8:$W$282,8,FALSE) -> 0 | N9: =(58000*9)*0.95 -> 495900 | O9: 560000 | P9: 578722.64 | S9: 0 | T9: 0 | U9: 0
B10: =ROW(B5) -> 5
A11: 119.00 | B11: =ROW(B6) -> 6 | H11: Vermischte Einnahmen | I11: =SUBTOTAL(9,I12:I15) -> 5100 | J11: =SUBTOTAL(9,J12:J15) -> 1000 | K11: =VLOOKUP(Tabelle1[[#This Row],[Titel]],[2]Haushalt!$A:$S,19,FALSE) -> 300 | L11: =SUBTOTAL(9,L12:L15) -> 4500 | M11: =VLOOKUP(Tabelle1[[#This Row],[Titel]],[3]Haushalt!$A$8:$W$282,8,FALSE) -> 3805 | N11: =SUBTOTAL(9,N12:N15) -> 2000 | O11: =SUBTOTAL(9,O12:O15) -> 6000 | P11: =SUBTOTAL(9,P12:P15) -> 6205 | Q11: =SUBTOTAL(9,Q12:Q15) -> 0 | R11: =SUBTOTAL(9,R12:R15) -> 0 | S11: =SUBTOTAL(9,S12:S15) -> 1975 | T11: =SUBTOTAL(9,T12:T15) -> 1975 | U11: =SUBTOTAL(9,U12:U15) -> 1975
A12: 119.10 | B12: =ROW(B7) -> 7 | C12: 4211 | D12: 1 | G12: 125.10, 125.20 | H12: Werbung und Anzeigen | I12: 1000 | J12: 1000 | K12: =VLOOKUP(Tabelle1[[#This Row],[Titel]],[2]Haushalt!$A:$S,19,FALSE) -> 300 | L12: 4000 | M12: =VLOOKUP(Tabelle1[[#This Row],[Titel]],[3]Haushalt!$A$8:$W$282,8,FALSE) -> 3805 | N12: 2000 | O12: 6000 | P12: 6205 | S12: =HHJ_2022_2023!H9+HHJ_2022_2023!H10 -> 1975 | T12: =HHJ_2022_2023!J9+HHJ_2022_2023!J10 -> 1975 | U12: =HHJ_2022_2023!L9+HHJ_2022_2023!L10 -> 1975
A13: 119.20 | B13: =ROW(B8) -> 8 | C13: 4040 | D13: 1 | G13: 119.21 | H13: Spenden | I13: 0 | J13: 0 | K13: =VLOOKUP(Tabelle1[[#This Row],[Titel]],[2]Haushalt!$A:$S,19,FALSE) -> 0 | L13: 0 | M13: =VLOOKUP(Tabelle1[[#This Row],[Titel]],[3]Haushalt!$A$8:$W$282,8,FALSE) -> 0 | N13: 0 | O13: 0 | P13: 0 | S13: =HHJ_2022_2023!H7 -> 0 | T13: =HHJ_2022_2023!J7 -> 0 | U13: =HHJ_2022_2023!L7 -> 0
A14: 119.30 | B14: =ROW(B9) -> 9 | C14: 7020 | D14: 2 | G14: 162.00 | H14: Zinsen | I14: 4000 | J14: 0 | K14: =VLOOKUP(Tabelle1[[#This Row],[Titel]],[2]Haushalt!$A:$S,19,FALSE) -> 0 | L14: 500 | M14: =VLOOKUP(Tabelle1[[#This Row],[Titel]],[3]Haushalt!$A$8:$W$282,8,FALSE) -> 0 | N14: 0 | O14: 0 | P14: 0 | S14: =HHJ_2022_2023!H21 -> 0 | T14: =HHJ_2022_2023!J21 -> 0 | U14: =HHJ_2022_2023!L21 -> 0
A15: 119.40 | B15: =ROW(B9) -> 9 | C15: 4099 | D15: 1 | G15: 119.22 | H15: Sonstige | I15: 100 | J15: 0 | K15: =VLOOKUP(Tabelle1[[#This Row],[Titel]],[2]Haushalt!$A:$S,19,FALSE) -> 0 | L15: 0 | M15: =VLOOKUP(Tabelle1[[#This Row],[Titel]],[3]Haushalt!$A$8:$W$282,8,FALSE) -> 0 | N15: 0 | O15: 0 | P15: 0 | S15: =HHJ_2022_2023!H8 -> 0 | T15: =HHJ_2022_2023!J8 -> 0 | U15: =HHJ_2022_2023!L8 -> 0
B16: =ROW(B10) -> 10
B17: =ROW(#REF!) -> #REF!
A18: 129.00 | B18: =ROW(#REF!) -> #REF! | H18: Teilnahmebeiträge | I18: =SUBTOTAL(9,I19:I20) -> 4000 | J18: =SUBTOTAL(9,J19:J20) -> 2500 | K18: =VLOOKUP(Tabelle1[[#This Row],[Titel]],[2]Haushalt!$A:$S,19,FALSE) -> 2161.2 | L18: =SUBTOTAL(9,L19:L20) -> 2950 | M18: =VLOOKUP(Tabelle1[[#This Row],[Titel]],[3]Haushalt!$A$8:$W$282,8,FALSE) -> 800 | N18: =SUBTOTAL(9,N19:N20) -> 10250 | O18: =SUBTOTAL(9,O19:O21) -> 11625 | P18: =SUBTOTAL(9,P19:P20) -> 0 | Q18: =SUBTOTAL(9,Q19:Q20) -> 0 | R18: =SUBTOTAL(9,R19:R20) -> 0 | S18: =SUBTOTAL(9,S19:S20) -> 0 | T18: =SUBTOTAL(9,T19:T20) -> 0 | U18: =SUBTOTAL(9,U19:U20) -> 0
A19: 129.10 | B19: =ROW(#REF!) -> #REF! | C19: 4203 | D19: 1 | G19: 129.70 (x0,2) | H19: AStA Seminare | I19: 2000 | J19: 500 | K19: =VLOOKUP(Tabelle1[[#This Row],[Titel]],[2]Haushalt!$A:$S,19,FALSE) -> 432.24 | L19: =Referatspläne!N4 -> 2500 | M19: =VLOOKUP(Tabelle1[[#This Row],[Titel]],[3]Haushalt!$A$8:$W$282,8,FALSE) -> 160 | N19: 5200 | O19: 500 | P19: 0 | S19: =HHJ_2022_2023!H18*0.2 -> 0 | T19: =HHJ_2022_2023!J18*0.2 -> 0 | U19: =HHJ_2022_2023!L18*0.2 -> 0
A20: 129.20 | B20: =ROW(#REF!) -> #REF! | C20: 4205 | D20: 1 | G20: 129.70 (x0,8), 129.80 (x0,25), 129.90 (x0,55) | H20: AStA-Veranstaltungen | I20: 2000 | J20: 2000 | K20: =VLOOKUP(Tabelle1[[#This Row],[Titel]],[2]Haushalt!$A:$S,19,FALSE) -> 1728.96 | L20: =Referatspläne!O4 -> 450 | M20: =VLOOKUP(Tabelle1[[#This Row],[Titel]],[3]Haushalt!$A$8:$W$282,8,FALSE) -> 640 | N20: 5050 | O20: 11125 | P20: 0 | S20: =(HHJ_2022_2023!H18*0.8)+(HHJ_2022_2023!H19*0.25)+(HHJ_2022_2023!H20*0.55) -> 0 | T20: =(HHJ_2022_2023!J18*0.8)+(HHJ_2022_2023!J19*0.25)+(HHJ_2022_2023!J20*0.55) -> 0 | U20: =(HHJ_2022_2023!L18*0.8)+(HHJ_2022_2023!L19*0.25)+(HHJ_2022_2023!L20*0.55) -> 0
A21: 129.30 | B21: =ROW(#REF!) -> #REF! | C21: 4205 | D21: 1 | G21: n.a. | H21: Stupa-Veranstaltungen | I21: 0 | J21: 0 | K21: =VLOOKUP(Tabelle1[[#This Row],[Titel]],[2]Haushalt!$A:$S,19,FALSE) -> 0 | L21: 0 | M21: =VLOOKUP(Tabelle1[[#This Row],[Titel]],[3]Haushalt!$A$8:$W$282,8,FALSE) -> 0 | N21: 0 | O21: 0 | P21: 0
B22: =ROW(B17) -> 17
A23: 130.00 | B23: =ROW(B18) -> 18 | H23: Einnahmen aus Bewirtung | I23: =SUBTOTAL(9,I24:I25) -> 500 | J23: =SUBTOTAL(9,J24:J25) -> 0 | K23: =VLOOKUP(Tabelle1[[#This Row],[Titel]],[2]Haushalt!$A:$S,19,FALSE) -> 0 | L23: =SUBTOTAL(9,L24:L25) -> 0 | M23: =VLOOKUP(Tabelle1[[#This Row],[Titel]],[3]Haushalt!$A$8:$W$282,8,FALSE) -> 0 | N23: =SUBTOTAL(9,N24:N25) -> 0 | O23: =SUBTOTAL(9,O24:O25) -> 0 | P23: =SUBTOTAL(9,P24:P25) -> 0 | Q23: =SUBTOTAL(9,Q24:Q25) -> 0 | R23: =SUBTOTAL(9,R24:R25) -> 0 | S23: =SUBTOTAL(9,S24:S25) -> 0 | T23: =SUBTOTAL(9,T24:T25) -> 0 | U23: =SUBTOTAL(9,U24:U25) -> 0
A24: 130.10 | B24: =ROW(B19) -> 19 | C24: 4090 | D24: 3 | G24: n.a. | H24: AStA | I24: 500 | J24: 0 | K24: =VLOOKUP(Tabelle1[[#This Row],[Titel]],[2]Haushalt!$A:$S,19,FALSE) -> 0 | L24: 0 | M24: =VLOOKUP(Tabelle1[[#This Row],[Titel]],[3]Haushalt!$A$8:$W$282,8,FALSE) -> 0 | N24: =Referatspläne!P4 -> 0 | O24: =Referatspläne!P2 -> 0 | P24: 0
A25: 130.20 | B25: =ROW(B20) -> 20 | C25: 4090 | D25: 3 | G25: n.a. | H25: SP-Veranstaltungen | I25: 0 | J25: 0 | K25: =VLOOKUP(Tabelle1[[#This Row],[Titel]],[2]Haushalt!$A:$S,19,FALSE) -> 0 | L25: 0 | M25: =VLOOKUP(Tabelle1[[#This Row],[Titel]],[3]Haushalt!$A$8:$W$282,8,FALSE) -> 0 | N25: 0 | O25: 0 | P25: 0
B26: =ROW(B21) -> 21
A27: 140.00 | B27: =ROW(B22) -> 22 | H27: Einnahmen aus Förderungen und Kooperationen | I27: =SUBTOTAL(9,I28:I30) -> 6000 | J27: =SUBTOTAL(9,J28:J30) -> 5000 | K27: =VLOOKUP(Tabelle1[[#This Row],[Titel]],[2]Haushalt!$A:$S,19,FALSE) -> 0 | L27: =SUBTOTAL(9,L28:L30) -> 9176.25 | M27: =VLOOKUP(Tabelle1[[#This Row],[Titel]],[3]Haushalt!$A$8:$W$282,8,FALSE) -> 0 | N27: =SUBTOTAL(9,N28:N30) -> 17100 | O27: =SUBTOTAL(9,O28:O30) -> 15375 | P27: =SUBTOTAL(9,P28:P30) -> 0 | Q27: =SUBTOTAL(9,Q28:Q30) -> 0 | R27: =SUBTOTAL(9,R28:R30) -> 0 | S27: =SUBTOTAL(9,S28:S30) -> 0 | T27: =SUBTOTAL(9,T28:T30) -> 0 | U27: =SUBTOTAL(9,U28:U30) -> 0
A28: 140.10 | B28: =ROW(B23) -> 23 | C28: 4045 | D28: 1 | F28: mit Zuwendungsbestätigung | G28: 129.80 (x0,75) | H28: Förderungen Inkl. U. Gleichstellung | I28: 5000 | J28: 5000 | K28: =VLOOKUP(Tabelle1[[#This Row],[Titel]],[2]Haushalt!$A:$S,19,FALSE) -> 0 | L28: =Referatspläne!Q4 -> 9176.25 | M28: =VLOOKUP(Tabelle1[[#This Row],[Titel]],[3]Haushalt!$A$8:$W$282,8,FALSE) -> 0 | N28: 10800 | O28: 10875 | P28: 0 | S28: =HHJ_2022_2023!H19*0.75 -> 0 | T28: =HHJ_2022_2023!J19*0.75 -> 0 | U28: =HHJ_2022_2023!L19*0.75 -> 0
A29: 140.20 | B29: =ROW(B24) -> 24 | C29: 4050 | D29: 1 | F29: ohne Zuwendungsbestätigung | G29: 129.90 (x0,45) | H29: Förderungen Hopo | I29: 1000 | J29: 0 | K29: =VLOOKUP(Tabelle1[[#This Row],[Titel]],[2]Haushalt!$A:$S,19,FALSE) -> 0 | L29: 0 | M29: =VLOOKUP(Tabelle1[[#This Row],[Titel]],[3]Haushalt!$A$8:$W$282,8,FALSE) -> 0 | N29: 4800 | O29: 4500 | P29: 0 | S29: =HHJ_2022_2023!H20*0.45 -> 0 | T29: =HHJ_2022_2023!J20*0.45 -> 0 | U29: =HHJ_2022_2023!L20*0.45 -> 0
A30: 140.30 | B30: =ROW(B25) -> 25 | F30: weg | G30: n.a. | H30: Sonstige Förderungen und Kooperationen | I30: 0 | J30: 0 | K30: =VLOOKUP(Tabelle1[[#This Row],[Titel]],[2]Haushalt!$A:$S,19,FALSE) -> 0 | L30: 0 | M30: =VLOOKUP(Tabelle1[[#This Row],[Titel]],[3]Haushalt!$A$8:$W$282,8,FALSE) -> 0 | N30: 1500 | O30: 0 | P30: 0
B31: =ROW(B26) -> 26
A32: 182.00 | B32: =ROW(B27) -> 27 | H32: Darlehensrückflüsse | I32: =SUBTOTAL(9,I33:I34) -> 4000 | J32: =SUBTOTAL(9,J33:J34) -> 3000 | K32: =VLOOKUP(Tabelle1[[#This Row],[Titel]],[2]Haushalt!$A:$S,19,FALSE) -> 2428 | L32: =SUBTOTAL(9,L33:L34) -> 5000 | M32: =VLOOKUP(Tabelle1[[#This Row],[Titel]],[3]Haushalt!$A$8:$W$282,8,FALSE) -> 5262 | N32: =SUBTOTAL(9,N33:N34) -> 3600 | O32: =SUBTOTAL(9,O33:O34) -> 7000 | P32: =SUBTOTAL(9,P33:P34) -> 6229.55 | Q32: =SUBTOTAL(9,Q33:Q34) -> 0 | R32: =SUBTOTAL(9,R33:R34) -> 0 | S32: =SUBTOTAL(9,S33:S34) -> 130 | T32: =SUBTOTAL(9,T33:T34) -> 650 | U32: =SUBTOTAL(9,U33:U34) -> 960
A33: 182.10 | B33: =ROW(B28) -> 28 | D33: 2 | G33: 182.00 | H33: Aus Darlehen | I33: 4000 | J33: 3000 | K33: =VLOOKUP(Tabelle1[[#This Row],[Titel]],[2]Haushalt!$A:$S,19,FALSE) -> 2428 | L33: 5000 | M33: =VLOOKUP(Tabelle1[[#This Row],[Titel]],[3]Haushalt!$A$8:$W$282,8,FALSE) -> 5262 | N33: 3600 | O33: 7000 | P33: 6229.55 | S33: =HHJ_2022_2023!H22 -> 130 | T33: =HHJ_2022_2023!J22 -> 650 | U33: =HHJ_2022_2023!L22 -> 960
A34: 182.20 | B34: =ROW(B29) -> 29 | D34: 2 | G34: n.a. | H34: Aus Internationalisierungsdarlehen | I34: 0 | J34: 0 | K34: =VLOOKUP(Tabelle1[[#This Row],[Titel]],[2]Haushalt!$A:$S,19,FALSE) -> 0 | L34: 0 | M34: =VLOOKUP(Tabelle1[[#This Row],[Titel]],[3]Haushalt!$A$8:$W$282,8,FALSE) -> 0 | N34: 0 | O34: 0 | P34: 0 | W34: Ich höre nichts!
B35: =ROW(B30) -> 30
A36: Plan 2 | B36: =ROW(B31) -> 31 | H36: Einnahmen Fachschaften | I36: =I37+I44+I51 -> 95000 | J36: =J37+J44+J51 -> 83650 | K36: =VLOOKUP(Tabelle1[[#This Row],[Titel]],[2]Haushalt!$A:$S,19,FALSE) -> 69212.65 | L36: =L37+L44+L51 -> 118160 | M36: =VLOOKUP(Tabelle1[[#This Row],[Titel]],[3]Haushalt!$A$8:$W$282,8,FALSE) -> 71915.37 | N36: =N37+N44+N51 -> 146529.5 | O36: =O37+O44+O51 -> 85000 | P36: =P37+P44+P51 -> 89402 | Q36: =Q37+Q44+Q51 -> 0 | R36: =R37+R44+R51 -> 0 | S36: =S37+S44+S51 -> -160 | T36: =T37+T44+T51 -> 330 | U36: =U37+U44+U51 -> 1285
A37: 210.00 | B37: =ROW(B32) -> 32 | H37: Teilnahmebeiträge Seminare Fachschaften | I37: =SUBTOTAL(9,I38:I42) -> 95000 | J37: =SUBTOTAL(9,J38:J42) -> 83650 | K37: =VLOOKUP(Tabelle1[[#This Row],[Titel]],[2]Haushalt!$A:$S,19,FALSE) -> 69212.65 | L37: =SUBTOTAL(9,L38:L42) -> 117660 | M37: =VLOOKUP(Tabelle1[[#This Row],[Titel]],[3]Haushalt!$A$8:$W$282,8,FALSE) -> 71915.37 | N37: =SUBTOTAL(9,N38:N42) -> 145329.5 | O37: =SUBTOTAL(9,O38:O42) -> 85000 | P37: =SUBTOTAL(9,P38:P42) -> 89402 | Q37: =SUBTOTAL(9,Q38:Q42) -> 0 | R37: =SUBTOTAL(9,R38:R42) -> 0 | S37: =SUBTOTAL(9,S38:S42) -> -160 | T37: =SUBTOTAL(9,T38:T42) -> 330 | U37: =SUBTOTAL(9,U38:U42) -> 1285
A38: 210.10 | B38: =ROW(B33) -> 33 | C38: 4203 | D38: 1 | G38: 129.10 | H38: FSR WiWi | I38: 48000 | J38: 46150 | K38: =VLOOKUP(Tabelle1[[#This Row],[Titel]],[2]Haushalt!$A:$S,19,FALSE) -> 37662.65 | L38: ='WiWi neu'!I5 -> 46150 | M38: =VLOOKUP(Tabelle1[[#This Row],[Titel]],[3]Haushalt!$A$8:$W$282,8,FALSE) -> 37655.37 | N38: 56381 | O38: =[4]WiWi!G5 -> 23000 | P38: =WiWi!L8 -> 37605 | S38: =HHJ_2022_2023!H12 -> 90 | T38: =HHJ_2022_2023!J12 -> 135 | U38: =HHJ_2022_2023!L12 -> 135
A39: 210.20 | B39: =ROW(B34) -> 34 | C39: 4203 | D39: 1 | G39: 129.20 | H39: FSR KSW | I39: 4500 | J39: 3500 | K39: =VLOOKUP(Tabelle1[[#This Row],[Titel]],[2]Haushalt!$A:$S,19,FALSE) -> 2595 | L39: =KSW!E5 -> 8510 | M39: =VLOOKUP(Tabelle1[[#This Row],[Titel]],[3]Haushalt!$A$8:$W$282,8,FALSE) -> 2690 | N39: 10576 | O39: =KSW!I5 -> 1500 | P39: =KSW!J8 -> 318 | S39: =HHJ_2022_2023!H13 -> 0 | T39: =HHJ_2022_2023!J13 -> 475 | U39: =HHJ_2022_2023!L13 -> 490
A40: 210.30 | B40: =ROW(B35) -> 35 | C40: 4203 | D40: 1 | G40: 129.60 | H40: FSR PSY | I40: 4500 | J40: 0 | K40: =VLOOKUP(Tabelle1[[#This Row],[Titel]],[2]Haushalt!$A:$S,19,FALSE) -> 0 | L40: =PSY!E5 -> 24000 | M40: =VLOOKUP(Tabelle1[[#This Row],[Titel]],[3]Haushalt!$A$8:$W$282,8,FALSE) -> 0 | N40: 29222 | O40: =PSY!I5 -> 24000 | P40: =PSY!J8 -> 23964 | S40: =HHJ_2022_2023!H17 -> 0 | T40: =HHJ_2022_2023!J17 -> 0 | U40: =HHJ_2022_2023!L17 -> 0
A41: 210.40 | B41: =ROW(B36) -> 36 | C41: 4203 | D41: 1 | G41: 129.40 | H41: FSR ReWi | I41: 25000 | J41: 25000 | K41: =VLOOKUP(Tabelle1[[#This Row],[Titel]],[2]Haushalt!$A:$S,19,FALSE) -> 22060 | L41: =ReWi!E5 -> 23500 | M41: =VLOOKUP(Tabelle1[[#This Row],[Titel]],[3]Haushalt!$A$8:$W$282,8,FALSE) -> 23885 | N41: 29578 | O41: =ReWi!I5 -> 32000 | P41: =ReWi!J8 -> 24965 | S41: =HHJ_2022_2023!H15 -> -340 | T41: =HHJ_2022_2023!J15 -> -340 | U41: =HHJ_2022_2023!L15 -> -340
...

Sheet Tabelle1
A4: 413.10 | B4: Fest-AE Fachschaften (Fester Wert, 5*800*12) (§ 43 d. Satzung) | C4: 48000
A5: 413.20 | B5: Variable AE Fachschaften (§ 44 d. Satzung) | C5: =SUBTOTAL(9,C6:C10) -> 20300
A6: 413.21 | B6: Variable AE FSR WiWi | C6: 9500
A7: 413.22 | B7: Variable AE FSR KSW | C7: 2000
A8: 413.23 | B8: Variable AE FSR PSY | C8: 2000
A9: 413.24 | B9: Variable AE FSR ReWi | C9: 4400
A10: 413.25 | B10: Variable AE FSR M+I | C10: 2400
A11: 527.40 | B11: Fahrtkosten u. Verpflegungspausch. Fachschaften | C11: =SUBTOTAL(9,C12:C16) -> 27000
A12: 527.41 | B12: FSR WiWi | C12: 14000
A13: 527.42 | B13: FSR KSW | C13: 2000
A14: 527.43 | B14: FSR PSY | C14: 2000
A15: 527.44 | B15: FSR ReWi | C15: 6000
A16: 527.45 | B16: FSR M+I | C16: 3000
A17: 529.40 | B17: Raum- und Unterkunftskosten Fachschaften | C17: =SUBTOTAL(9,C18:C22) -> 13000
A18: 529.41 | B18: WiWi | C18: 6000
A19: 529.42 | B19: KSW | C19: 1500
A20: 529.43 | B20: PSY | C20: 1500
A21: 529.44 | B21: ReWi | C21: 2500
A22: 529.45 | B22: M+I | C22: 1500
A23: 531.40 | B23: Bewirtung und Repräsentation Fachschaften | C23: =SUBTOTAL(9,C24:C28) -> 2500
A24: 531.41 | B24: WiWi | C24: 500
A25: 531.42 | B25: KSW | C25: 500
A26: 531.43 | B26: PSY | C26: 500
A27: 531.44 | B27: ReWi | C27: 500
A28: 531.45 | B28: M+I | C28: 500
A29: 551.10 | B29: Honorare Dozierende Fachseminare | C29: =SUBTOTAL(9,C30:C34) -> 90750
A30: 551.11 | B30: WiWi | C30: 43750
A31: 551.12 | B31: KSW | C31: 4000
A32: 551.13 | B32: PSY | C32: 5000
A33: 551.14 | B33: ReWi | C33: 25000
A34: 551.15 | B34: M+I | C34: 13000
A35: 551.20 | B35: Andere Honorare | C35: =SUBTOTAL(9,C36:C40) -> 8000
A36: 551.21 | B36: WiWi | C36: 1000
A37: 551.22 | B37: KSW | C37: 2000
A38: 551.23 | B38: PSY | C38: 1000
A39: 551.24 | B39: ReWi | C39: 3000
A40: 551.25 | B40: M+I | C40: 1000
A41: 551.30 | B41: Externe Reisekosten | C41: =SUBTOTAL(9,C42:C46) -> 2800
A42: 551.31 | B42: WiWi | C42: 500
A43: 551.32 | B43: KSW | C43: 500
...

Sheet Stellenplan
A1: Stellenplan
A3: AStA-Referate HHJ 24-25 | B3: Vergütung | C3: Knappschaft | D3: Sachkostenpauschale | E3: VBG | G3: AStA-Referate HHJ 21-22 | H3: Vergütung | I3: Knappschaft | J3: Sachkostenpauschale | K3: VBG | M3: AStA-Referate HHJ 22-23 | N3: Vergütung | O3: Knappschaft | P3: Sachkostenpauschale | Q3: VBG | S3: AStA-Referate HHJ 23-24 | T3: Vergütung | U3: Knappschaft | V3: Sachkostenpauschale | W3: VBG
A4: 12 | B4: 520 | C4: =B4*0.25 -> 130 | D4: 175 | G4: 13 | H4: 450 | I4: =450*0.25 -> 112.5 | J4: 175 | M4: 13 | N4: 450 | O4: =450*0.25 -> 112.5 | P4: 175 | S4: 13 | T4: 450 | U4: =450*0.25 -> 112.5 | V4: 175
A5: Rechn. Jahreswert | B5: =450*12*A4 -> 64800 | C5: =C4*12*A4 -> 18720 | D5: =D4*12*A4 -> 25200 | E5: 185 | G5: Rechn. Jahreswert | H5: =450*12*G4 -> 70200 | I5: =I4*12*G4 -> 17550 | J5: =J4*12*G4 -> 27300 | K5: 185 | M5: Rechn. Jahreswert | N5: =450*12*M4 -> 70200 | O5: =O4*12*M4 -> 17550 | P5: =P4*12*M4 -> 27300 | Q5: 185 | S5: Rechn. Jahreswert | T5: =450*12*S4 -> 70200 | U5: =U4*12*S4 -> 17550 | V5: =V4*12*S4 -> 27300 | W5: 185
A6: Budget angepasst | B6: 75000 | C6: 22000 | D6: 27000 | E6: 250 | G6: Budget angepasst | H6: 63000 | I6: 19000 | J6: 25000 | K6: 185 | M6: Budget angepasst | N6: 70000 | O6: 18000 | P6: 27000 | Q6: 200 | S6: Budget angepasst | T6: 70000 | U6: 18000 | V6: 27000 | W6: 200
A10: Stellenplan Personal ab 01.10.2024 | I10: 13
A13: Stellenplan Personal ab 01.10.2024 | D13: Gehalt brutto | E13: SV-Anteil AG | F13: BAV | G13: Jahreswert
A14: Verwaltungsangestellte/r | B14: E9b Stufe 5 | C14: 28 Stunden | D14: 44402.534 | E14: =654.187451841*I10 -> 8504.4369 | F14: 2332.0911 | G14: =SUM(D14:F14) -> 55239.062 | H14: Ab November 2024 werden alle Tabellenentgelte um 200 Euro erhöht.
A15: Verwaltungsangestellte/r | B15: E10 Stufe 2 | C15: 39 Stunden 50 Minuten | D15: 58774.867 | E15: =865.821326464*I10 -> 11255.677 | F15: 2926.3836 | G15: =SUM(D15:F15) -> 72956.928 | H15: Ab Februar 2025 werden alle Tabellenentgelte um weitere 5,5 Prozent erhöht.
A16: Verwaltungsangestellte/r | B16: E10 Stufe 6 | C16: 30 Stunden | D16: 54792.73 | E16: =807.721632*I10 -> 10500.381 | F16: 2892.8325 | G16: =SUM(D16:F16) -> 68185.943 | H16: SV höher
A17: Verwaltungsangestellte/r | B17: E9a Stufe 3 | C17: 30 Stunden | D17: 38172.557 | E17: =549.093513*I10 -> 7138.2157 | F17: 2011.9845 | G17: =SUM(D17:F17) -> 47322.757 | H17: BAV entspr.
A18: Verwaltungsangestellte/r | B18: E9a Stufe 2 ? | C18: 30 Stunden | D18: 30888 | E18: 5500 | F18: 1983.9125 | G18: =SUM(D18:F18) -> 38371.913 | H18: Vorgesehen ist eine neue Stelle im Bereich Sozial- und Studienberatung
A19: Summe | D19: =SUM(D14:D18) -> 227030.69 | E19: =SUM(E14:E18) -> 42898.711 | F19: =SUM(F14:F18) -> 12147.204 | G19: =SUM(G14:G18) -> 282076.6 | H19: Ab Dezember 2023
A21: VBG | D21: 750 | H21: Basiszahlen Juli 24 | J21: 1.11. | L21: 1.2. | M21: 8 Monate
J22: 200 | L22: 0.055 | M22: 8
A23: Gesamt
H24: 3876.84 | I24: 50398.92 | J24: 4076.84 | K24: 52998.92 | L24: 224.2262 | M24: 1793.8096
H25: 4173.13 | I25: 54250.69 | J25: 4373.13 | K25: 56850.69 | L25: 240.52215 | M25: 1924.1772
A26: Titel | C26: HHJ 24-25 | D26: HHJ 23-24 | E26: HHJ 22-23 | F26: HHJ 21-22 | H26: 2640.22 | I26: 34322.86 | J26: 2840.22 | K26: 36922.86 | L26: 156.2121 | M26: 1249.6968
A27: 428.10 | B27: Gehälter Büro (ab 10/24: Brutto!) | C27: 230000 | D27: 118000 | E27: 102000 | F27: 92500 | H27: 3103.76 | I27: 40348.88 | J27: 3303.76 | K27: 42948.88 | L27: 181.7068 | M27: 1453.6544
A28: 428.20 | B28: Lohnsteuer/Steuerabzug Personal | C28: 0 | D28: 26000 | E28: 28000 | F28: 26000 | H28: 2500 | I28: 27500 | J28: 2700 | K28: 29700 | L28: 148.5 | M28: 1188
A29: 428.30 | B29: Sozialversicherung | C29: 50000 | D29: 77000 | E29: 75000 | F29: 73000
A30: 428.40 | B30: VBL Zusatzversorgung | C30: 16000 | D30: 15000 | E30: 15000 | F30: 14500 | K30: Brutto HHJ 24-25 | M30: 54792.73
A31: Summe* | C31: =SUM(C27:C30) -> 296000 | D31: =SUM(D27:D30) -> 236000 | E31: =SUM(E27:E30) -> 220000 | F31: =SUM(F27:F30) -> 206000 | M31: 58774.867
M32: 38172.557
M33: 44402.534
M34: 30888
A41: Stellenplan Personal 01.01.2021 bis 31.12.2021
A43: Tarifgruppe | B43: Stellenbeschreibung | C43: Stellenvolumen | D43: Wochenarbeitszeit in Stunden
A44: E 9a | B44: Verwaltungsangestellte/r | C44: 1 | D44: Vollzeitstelle, 39 h 50 min
A45: E 9b | B45: Verwaltungsangestellte/r | C45: 0.6025 | D45: 24 Wochenstunden
A46: E 10 | B46: Verwaltungsangestellte/r | C46: 0.6025 | D46: 24 Wochenstunden
A47: E 10 | B47: Verwaltungsangestellte/r | C47: 0.7531 | D47: 30 Wochenstunden
B48: Summe: | C48: =SUM(C44:C47) -> 2.9581
A51: Stellenplan Personal ab 01.01.2022
A53: Stellenplan Personal ab 01.10.2023
A55: Mit Erhöhung EG und WAZ HHJ 2022/2023 | D55: 44835 | E55: 44866 | F55: Dez 22 Tariferhöhung | G55: Oktober bis Dezember 2022
A56: Verwaltungsangestellte/r | B56: E9b Stufe 5 | C56: 28 Stunden | D56: 3826.89 | E56: 5944.17 | F56: 3934.524 | G56: =D56+E56+F56 -> 13705.584
A57: Verwaltungsangestellte/r | B57: E10 Stufe 2 | C57: 39 Stunden 50 Minuten | D57: 4749.84 | E57: 8410.02 | F57: 4883.29 | G57: =D57+E57+F57 -> 18043.15
A58: Verwaltungsangestellte/r | B58: E10 Stufe 6 | C58: 30 Stunden | D58: 4761.57 | E58: 8256.76 | F58: 4894.52 | G58: =D58+E58+F58 -> 17912.85
...

Sheet Anschaffungsplan+BHS
A1: Anschaffungsplan HHJ 24-25 | G1: Anschaffungsplan HHJ 23-24 | L1: Anschaffungsplan HHJ 22-23 | Q1: Anschaffungsplan HHJ 21-22
A3: Neuanschaffungen Allgemein | G3: Neuanschaffungen Allgemein | L3: Neuanschaffungen Allgemein | Q3: Neuanschaffungen Allgemein
A4: Nr. | B4: Betrag | C4: Was? | D4: Begründung | G4: Nr. | H4: Betrag | I4: Was? | J4: Begründung | L4: Nr. | M4: Betrag | N4: Was? | O4: Begründung | Q4: Nr. | R4: Betrag | S4: Was? | T4: Begründung
A5: 1 | B5: 5000 | C5: Ausstattung neue Fachschaftsbüros | D5: Weitere nötige Beschaffungen | L5: 1 | M5: 1500 | N5: Büromöbel | O5: Austausch von Stühlen notwendig | Q5: 1 | R5: 0
A6: 2 | B6: 5000 | C6: Ausstattung neue AStA-Büros | D6: Weitere nötige Beschaffungen | L6: 2 | M6: 4500 | N6: Kamera-Lesesystem | O6: Inklusion | Q6: 2 | R6: 0
G7: 1 | H7: 7000 | I7: Ausstattung neue AStA-Büros | J7: Notwendigkeit durch Umzug
A9: Freie Mittel | B9: 5000 | G9: Freie Mittel | H9: 1000 | L9: Freie Mittel | M9: 1000 | Q9: Freie Mittel | R9: 700
A10: Gesamt | B10: =SUBTOTAL(109,Tabelle28531972[Betrag]) -> 15000 | D10: =SUBTOTAL(103,Tabelle28531972[Begründung]) -> 2 | G10: Gesamt | H10: =SUBTOTAL(109,Tabelle285319[Betrag]) -> 8000 | J10: =SUBTOTAL(103,Tabelle285319[Begründung]) -> 1 | L10: Gesamt | M10: =SUBTOTAL(109,Tabelle2853[Betrag]) -> 7000 | O10: =SUBTOTAL(103,Tabelle2853[Begründung]) -> 2 | Q10: Gesamt | R10: =SUBTOTAL(109,Tabelle28[Betrag]) -> 700 | T10: =SUBTOTAL(103,Tabelle28[Begründung]) -> 0
A12: Neuanschaffungen EDV und Telekommunikation | G12: Neuanschaffungen EDV und Telekommunikation | L12: Neuanschaffungen EDV und Telekommunikation | Q12: Neuanschaffungen EDV
A13: Nr. | B13: Betrag | C13: Was? | D13: Begründung | G13: Nr. | H13: Betrag | I13: Was? | J13: Begründung | L13: Nr. | M13: Betrag | N13: Was? | O13: Begründung | Q13: Nr. | R13: Betrag | S13: Was? | T13: Begründung
A14: 1 | B14: 2500 | C14: Gesicherte Dienstlaptops | D14: ggf. aufgrund von Datenschutzanforderungen - Keine Anschaffung in 22-23 | G14: 1 | H14: 2500 | I14: Gesicherte Dienstlaptops | J14: ggf. aufgrund von Datenschutzanforderungen - Keine Anschaffung in 22-23 | L14: 1 | M14: 2500 | N14: Gesicherte Dienstlaptops | O14: ggf. aufgrund von Datenschutzanforderungen | Q14: 1 | R14: 0
A15: 2 | B15: 2500 | C15: Gesicherte Diensthandys | D15: ggf. aufgrund von Datenschutzanforderungen - Keine Anschaffung in 22-23 | G15: 2 | H15: 2500 | I15: Gesicherte Diensthandys | J15: ggf. aufgrund von Datenschutzanforderungen - Keine Anschaffung in 22-23 | L15: 2 | M15: 2500 | N15: Gesicherte Diensthandys | O15: ggf. aufgrund von Datenschutzanforderungen | Q15: 2 | R15: 0
A16: 3 | B16: 5000 | C16: IT-technische Ausstattung neue Fachschaftsbüros | G16: 3
A18: Freie Mittel | B18: 2000 | G18: Freie Mittel | H18: 500 | L18: Freie Mittel | M18: 500 | Q18: Freie Mittel | R18: 500
A19: Gesamt | B19: =SUBTOTAL(109,Tabelle2521271[Betrag]) -> 12000 | D19: =SUBTOTAL(103,Tabelle2521271[Begründung]) -> 2 | G19: Gesamt | H19: =SUBTOTAL(109,Tabelle25212[Betrag]) -> 5500 | J19: =SUBTOTAL(103,Tabelle25212[Begründung]) -> 2 | L19: Gesamt | M19: =SUBTOTAL(109,Tabelle252[Betrag]) -> 5500 | O19: =SUBTOTAL(103,Tabelle252[Begründung]) -> 2 | Q19: Gesamt | R19: =SUBTOTAL(109,Tabelle2[Betrag]) -> 500 | T19: =SUBTOTAL(103,Tabelle2[Begründung]) -> 0
A21: Renovierungen und Instandhaltung | G21: Renovierungen und Instandhaltung | L21: Renovierungen und Instandhaltung | Q21: Renovierungen und Instandhaltung
A22: Nr. | B22: Betrag | C22: Was? | D22: Begründung | G22: Nr. | H22: Betrag | I22: Was? | J22: Begründung | L22: Nr. | M22: Betrag | N22: Was? | O22: Begründung | Q22: Nr. | R22: Betrag | S22: Was? | T22: Begründung
A23: 1 | B23: 500 | C23: Kleinmaßnahmen | D23: z.B. kleine (Schönheits)Reparaturen | G23: 1 | H23: 500 | I23: Kleinmaßnahmen | J23: z.B. kleine (Schönheits)Reparaturen | L23: 1 | M23: 500 | N23: Kleinmaßnahmen | O23: z.B. kleine (Schönheits)Reparaturen | Q23: 1 | R23: 500 | S23: Kleinmaßnahmen
A24: 2 | B24: 1500 | C24: Renovierungsmaßnahmen neue Fachschaftsbüros | D24: Renovierungsmaßnahmen nach Umzug | G24: 2 | L24: 2 | Q24: 2 | R24: 0
A27: Freie Mittel | B27: 0 | G27: Freie Mittel | H27: 0 | L27: Freie Mittel | M27: 0 | Q27: Freie Mittel | R27: 0
A28: Gesamt | B28: =SUBTOTAL(109,Tabelle2111216563573[Betrag]) -> 2000 | D28: =SUBTOTAL(103,Tabelle2111216563573[Begründung]) -> 2 | G28: Gesamt | H28: =SUBTOTAL(109,Tabelle21112165635[Betrag]) -> 500 | J28: =SUBTOTAL(103,Tabelle21112165635[Begründung]) -> 1 | L28: Gesamt | M28: =SUBTOTAL(109,Tabelle211121656[Betrag]) -> 500 | O28: =SUBTOTAL(103,Tabelle211121656[Begründung]) -> 1 | Q28: Gesamt | R28: =SUBTOTAL(109,Tabelle2111216[Betrag]) -> 500 | T28: =SUBTOTAL(103,Tabelle2111216[Begründung]) -> 0
A31: Anschaffungen und Maßnahmen BHS | G31: Anschaffungen und Maßnahmen BHS | L31: Anschaffungen und Maßnahmen BHS | Q31: Anschaffungen und Maßnahmen BHS
A32: Nr. | B32: Betrag | C32: Was? | D32: Begründung | G32: Nr. | H32: Betrag | I32: Was? | J32: Begründung | L32: Nr. | M32: Betrag | N32: Was? | O32: Begründung | Q32: Nr. | R32: Betrag | S32: Was? | T32: Begründung
A33: 1 | B33: 50000 | C33: Rücklagenbildung BHS | D33: Wirtschaftlich erforderlich für Ausgleich Cash-Flow im lfd. Wirtschaftsjahr, auch weil die wirtschaftliche Situation infolge der Pandemie kaum noch prognostizierbar ist | G33: 1 | H33: 45000 | I33: Rücklagenbildung BHS | J33: Wirtschaftlich erforderlich für Ausgleich Cash-Flow im lfd. Wirtschaftsjahr, auch weil die wirtschaftliche Situation infolge der Pandemie kaum noch prognostizierbar ist | L33: 1 | M33: 45507.83 | N33: Rücklagenbildung BHS | O33: Wirtschaftlich erforderlich für Ausgleich Cash-Flow im lfd. Wirtschaftsjahr, auch weil die wirtschaftliche Situation infolge der Pandemie kaum noch prognostizierbar ist | Q33: 1 | R33: 2000
G34: 2 | H34: 155000 | J34: Rücklagenbildung energetische Sanierung | L34: 2 | M34: 8000 | N34: Verschönerungs- und bauliche Kleinmaßnahmen | O34: Wünschenswert | Q34: 2 | R34: 3000
A35: 3 | G35: 3 | L35: 3 | M35: 25000 | N35: Reparatur Aufzug | O35: Barrierearmut, Ausgleich von Vorjahreskosten
A36: Freie Mittel | B36: 0 | G36: Freie Mittel | H36: 0 | L36: Freie Mittel | M36: 0
A37: Gesamt | B37: =SUBTOTAL(109,Tabelle2111239573674[Betrag]) -> 50000 | D37: =SUBTOTAL(103,Tabelle2111239573674[Begründung]) -> 1 | G37: Gesamt | H37: =SUBTOTAL(109,Tabelle21112395736[Betrag]) -> 200000 | J37: =SUBTOTAL(103,Tabelle21112395736[Begründung]) -> 2 | L37: Gesamt | M37: =SUBTOTAL(109,Tabelle211123957[Betrag]) -> 78507.83 | O37: =SUBTOTAL(103,Tabelle211123957[Begründung]) -> 3 | Q37: Freie Mittel | R37: 1000
Q38: Gesamt | R38: =SUBTOTAL(109,Tabelle2111239[Betrag]) -> 6000 | T38: =SUBTOTAL(103,Tabelle2111239[Begründung]) -> 0

Sheet Mieten und Lizenzen
A1: Mieten, Wartung und Lizenzen
A3: Mieten HHJ 24-25 | G3: Mieten HHJ 23-24 | M3: Mieten HHJ 22-23
A5: Vertrag Nr. | B5: Vertragsinhalt | C5: Vertragspartner | D5: Beträge/Budget | E5: Laufzeit | G5: Vertrag Nr. | H5: Vertragsinhalt | I5: Vertragspartner | J5: Beträge/Budget | K5: Laufzeit | M5: Vertrag Nr. | N5: Vertragsinhalt | O5: Vertragspartner | P5: Beträge/Budget | Q5: Laufzeit
A6: 1 | B6: Webspace mit Domains | C6: Neue Medien Münnich | D6: 150 | G6: 1 | H6: Webspace mit Domains | I6: Neue Medien Münnich | J6: 150 | M6: 1 | N6: Webspace mit Domains | O6: Neue Medien Münnich | P6: 150
A7: 2 | B7: Mail Business | C7: 1&1 IONOS | D7: 600 | G7: 2 | H7: Mail Business | I7: 1&1 IONOS | J7: 600 | M7: 2 | N7: Mail Business | O7: 1&1 IONOS | P7: 600
A8: 3 | B8: Hardwaremieten | C8: edvXpert | D8: 4200 | G8: 3 | H8: Hardwaremieten | I8: edvXpert | J8: 4200 | M8: 3 | N8: Hardwaremieten | O8: edvXpert | P8: 4200
A9: 4 | B9: BHS | C9: BHS (Titel 560.40) | D9: 10000 | G9: 4 | M9: 4 | P9: 0
A10: 5 | D10: 0 | G10: 5 | J10: 0 | M10: 5 | P10: 0
A11: 6 | B11: Frei | D11: 2500 | G11: 6 | H11: Frei | J11: 2500 | M11: 6 | N11: Frei | P11: 3000
A12: Gesamt | D12: =SUBTOTAL(109,Tabelle16669[Beträge/Budget]) -> 17450 | G12: Gesamt | J12: =SUBTOTAL(109,Tabelle166[Beträge/Budget]) -> 7450 | M12: Gesamt | P12: =SUBTOTAL(109,Tabelle16[Beträge/Budget]) -> 7950
A15: Lizenzen HHJ 24-25 | G15: Lizenzen HHJ 23-24 | M15: Lizenzen HHJ 22-23
A17: Lizenz-Nr. | B17: Lizenzinhalt | C17: Lizenzgeber | D17: Beträge/Budget | E17: Laufzeit | G17: Lizenz-Nr. | H17: Lizenzinhalt | I17: Lizenzgeber | J17: Beträge/Budget | K17: Laufzeit | M17: Lizenz-Nr. | N17: Lizenzinhalt | O17: Lizenzgeber | P17: Beträge/Budget | Q17: Laufzeit
A18: 1 | B18: Microsoft 365 | C18: edvXpert | D18: 1000 | G18: 1 | H18: Microsoft 365 | I18: edvXpert | J18: 1000 | M18: 1 | N18: Microsoft 365 | O18: edvXpert | P18: 1000
A19: 2 | B19: Virenschutz | C19: edvXpert | D19: 360 | G19: 2 | H19: Virenschutz | I19: edvXpert | J19: 360 | M19: 2 | N19: Virenschutz | O19: edvXpert | P19: 360
A20: 3 | B20: Adobe Creative Cloud 2x & InDesign 1x | C20: CCP Software | D20: 1000 | E20: Auslaufend! | G20: 3 | H20: Adobe Creative Cloud 2x & InDesign 1x | I20: CCP Software | J20: 1000 | K20: Auslaufend! | M20: 3 | N20: Adobe Creative Cloud 2x & InDesign 1x | O20: CCP Software | P20: 1000
A21: 4 | B21: Zoom Meetings Pro 3x | C21: Zoom Communications | D21: 440 | G21: 4 | H21: Zoom Meetings Pro 3x | I21: Zoom Communications | J21: 440 | M21: 4 | N21: Zoom Meetings Pro 3x | O21: Zoom Communications | P21: 440
A22: 5 | B22: Datev Grundlizenz und Nutzer (2) | C22: Datev: 171,35 € und 269 € (2024: Keine Grundlizenzgebühren | D22: 4941.5 | G22: 5 | H22: Adobe Connect 1x | I22: Reflact AG | J22: 0 | K22: Auslaufend! | M22: 5 | N22: Adobe Connect 1x | O22: Reflact AG | P22: 280
A23: 6 | B23: Freies Budget | D23: 2000 | G23: 6 | H23: Freies Budget | J23: 2500 | M23: 6 | N23: Freies Budget | P23: 1000
A24: Gesamt | D24: =SUBTOTAL(109,Tabelle17770[Beträge/Budget]) -> 9741.5 | G24: Gesamt | J24: =SUBTOTAL(109,Tabelle177[Beträge/Budget]) -> 5300 | M24: Gesamt | P24: =SUBTOTAL(109,Tabelle17[Beträge/Budget]) -> 4080

Sheet Leistungen Dritter
A1: Leistungen Dritter
A4: HHJ 24-25 - Leistungen Dritter | H4: HHJ 23-24 - Leistungen Dritter | O4: HHJ 22-23 - Leistungen Dritter | V4: HHJ 21-22
A5: Vertrag Nr. | B5: Vertragsinhalt* | C5: Vertragspartner | D5: Beträge/Budget | E5: Titel | F5: Laufzeit | H5: Vertrag Nr. | I5: Vertragsinhalt* | J5: Vertragspartner | K5: Beträge/Budget | L5: Titel | M5: Laufzeit | O5: Vertrag Nr. | P5: Vertragsinhalt* | Q5: Vertragspartner | R5: Beträge/Budget | S5: Titel | T5: Laufzeit | V5: Vertrag Nr. | W5: Vertragsinhalt* | X5: Vertragspartner | Y5: Beträge/Budget | Z5: Titel | AA5: Laufzeit
A6: 1 | B6: Lohnbuchführung | C6: WETAX | D6: 4000 | E6: 560.10 | H6: 1 | I6: Lohnbuchführung | J6: WETAX | K6: 6000 | L6: 560.10 | O6: 1 | P6: Lohnbuchführung | Q6: WETAX | R6: 5000 | S6: 560.10 | V6: 1 | W6: Lohnbuchführung | X6: WETAX | Y6: 5000 | Z6: 560.10
A7: 2 | B7: Diverse Unterstützungleistungen Datev | C7: Datev | D7: 5000 | E7: 560.40 | H7: 2 | I7: Allgemeine Rechtsberatung Studierende | J7: n.N | K7: 24000 | L7: 560.80 | M7: 1 Jahr | O7: 2 | P7: Allgemeine Rechtsberatung Studierende | Q7: n.N | R7: 24000 | S7: 560.80 | T7: 1 Jahr | V7: 2 | W7: IT-Wartungspakete | X7: edvXpert | Y7: 4500 | Z7: 560.30
H8: 3 | I8: Beratungen zum Haushalt | J8: WETAX | K8: 2000 | L8: 560.20 | O8: 3 | P8: Beratungen zum Haushalt | Q8: WETAX | R8: 2000 | S8: 560.20 | V8: 3 | W8: IT-Wartung Personalkosten | X8: edvXpert | Y8: 4500 | Z8: 560.30
H9: 4 | J9: n.N. | O9: 4 | V9: 4 | W9: Drucker Vollservice | X9: Kesper | Y9: 350 | Z9: 560.30
V10: 5 | W10: Seminarverwaltung | X10: Wundercoach | Y10: 2900
V11: 6 | W11: Freies Budget | Y11: 3000
B12: Freies Budget | C12: n.N. | D12: 1000 | E12: 560.40 | I12: Freies Budget | J12: n.N. | K12: 3500 | L12: 560.20 | P12: Freies Budget | Q12: n.N. | R12: 2000 | S12: 560.20 | V12: Gesamt: | Y12: =SUM(Y6:Y11) -> 20250
A13: Gesamt: | D13: =SUM(D6:D12) -> 10000 | H13: Gesamt: | K13: =SUM(K6:K12) -> 35500 | O13: Gesamt: | R13: =SUM(R6:R12) -> 33000
A16: HHJ 24-25 - IT-Dienstleistungen | H16: HHJ 23-24 - IT-Dienstleistungen | O16: HHJ 22-23 - IT-Dienstleistungen
A17: Vertrag Nr. | B17: Vertragsinhalt* | C17: Vertragspartner | D17: Beträge/Budget | E17: Titel | F17: Laufzeit | H17: Vertrag Nr. | I17: Vertragsinhalt* | J17: Vertragspartner | K17: Beträge/Budget | L17: Titel | M17: Laufzeit | O17: Vertrag Nr. | P17: Vertragsinhalt* | Q17: Vertragspartner | R17: Beträge/Budget | S17: Titel | T17: Laufzeit
A18: 2 | B18: IT-Wartungspakete | C18: edvXpert | D18: 4500 | E18: 560.30 | H18: 2 | I18: IT-Wartungspakete | J18: edvXpert | K18: 4500 | L18: 560.30 | O18: 2 | P18: IT-Wartungspakete | Q18: edvXpert | R18: 4500 | S18: 560.30
A19: 3 | B19: IT-Wartung Personalkosten | C19: edvXpert | D19: 4500 | E19: 560.30 | H19: 3 | I19: IT-Wartung Personalkosten | J19: edvXpert | K19: 4500 | L19: 560.30 | O19: 3 | P19: IT-Wartung Personalkosten | Q19: edvXpert | R19: 4500 | S19: 560.30
A20: 4 | B20: Drucker Vollservice | C20: Kesper | D20: 350 | E20: 560.30 | H20: 4 | I20: Drucker Vollservice | J20: Kesper | K20: 350 | L20: 560.30 | O20: 4 | P20: Drucker Vollservice | Q20: Kesper | R20: 350 | S20: 560.30
A21: 5 | B21: Seminarverwaltung | C21: Wundercoach | D21: 3500 | E21: 560.30 | H21: 5 | I21: Seminarverwaltung | J21: Wundercoach | K21: 2900 | O21: 5 | P21: Seminarverwaltung | Q21: Wundercoach | R21: 2900
A22: 6 | B22: zzgl. AStA-Referate | C22: Diverse | D22: 1000 | E22: 560.30 | H22: 6 | I22: zzgl. AStA-Referate | J22: Diverse | K22: =Referatspläne!L4 -> 72288 | O22: 6 | P22: zzgl. AStA-Referate | Q22: Diverse | R22: 5500
A23: 7 | B23: Freies Budget | D23: 1150 | E23: 560.30 | H23: 7 | I23: Freies Budget | K23: 1000 | O23: 7 | P23: Freies Budget | R23: 1000
A24: Gesamt: | D24: =SUM(D18:D23) -> 15000 | H24: Gesamt: | K24: =SUM(K18:K23) -> 85538 | O24: Gesamt: | R24: =SUM(R18:R23) -> 18750
D26: 560.30: | E26: 15000

Sheet Aufwandsentschädigungen
A1: Aufwandsentschädigungen Studierendenvertretung
A2: HHJ 21-22 | F2: HHJ 22-23 | K2: HHJ 23-24
A3: Empfänger | B3: Art | C3: Höhe p.A. | F3: Empfänger | G3: Art | H3: Höhe p.A. | K3: Empfänger | L3: Art | M3: Höhe p.A.
A4: Stupa-Vorsitz | B4: fest | C4: =(400*12)+(240*12) -> 7680 | F4: Stupa-Vorsitz | G4: fest | H4: =(400*12)+(240*12) -> 7680 | K4: Stupa-Vorsitz | L4: fest | M4: =(400*12)+(240*12) -> 7680
A5: HHA-Vorsitz | B5: fest | C5: =(320*12)+(160*12) -> 5760 | F5: HHA-Vorsitz | G5: fest | H5: =(320*12)+(160*12) -> 5760 | K5: HHA-Vorsitz | L5: fest | M5: =(320*12)+(160*12) -> 5760
A6: AG-Sprecher | B6: fest | C6: 4000 | D6: =SUM(C4:C6) -> 17440 | E6: Gesamt fest | F6: AG-Sprecher | G6: fest | H6: 4000 | I6: =SUM(H4:H6) -> 17440 | J6: Gesamt fest | K6: AG-Sprecher | L6: fest | M6: 4000
A7: Fachschaftsräte | B7: fest | C7: =800*5*12 -> 48000 | D7: 9600 | E7: pro Fachschaft | F7: Fachschaftsräte | G7: fest | H7: =800*5*12 -> 48000 | I7: 9600 | J7: pro Fachschaft | K7: Fachschaftsräte | L7: fest | M7: =800*5*12 -> 48000
A8: Vorsitz Stupa | B8: variabel | C8: 1000 | F8: Vorsitz Stupa | G8: variabel | H8: 1500 | K8: Vorsitz Stupa | L8: variabel | M8: 1500
A9: Mitglieder Stupa | B9: variabel | C9: 17320 | F9: Mitglieder Stupa | G9: variabel | H9: =D21+D22+D23 -> 25010 | K9: Mitglieder Stupa | L9: variabel | M9: =I21+I22+I23 -> 0
A10: Vorsitz Ausschüsse | B10: variabel | C10: 1000 | F10: Vorsitz Ausschüsse | G10: variabel | H10: 1000 | K10: Vorsitz Ausschüsse | L10: variabel | M10: 1000
A11: Mitglieder Ausschüsse | B11: variabel | C11: 6740 | F11: Mitglieder Ausschüsse | G11: variabel | H11: 6740 | K11: Mitglieder Ausschüsse | L11: variabel | M11: 6740
A12: Vorsitz Agen | B12: variabel | C12: 0 | F12: Vorsitz Agen | G12: variabel | H12: 1000 | K12: Vorsitz Agen | L12: variabel | M12: 1000
A13: Mitglieder Agen | B13: variabel | C13: 0 | F13: Mitglieder Agen | G13: variabel | H13: 4000 | K13: Mitglieder Agen | L13: variabel | M13: 4000
A14: AStA-Veranstaltungen, Gäste, Sonstige | B14: variabel | C14: 1750 | D14: =SUM(C8:C13) -> 26060 | E14: Gesamt variabel | F14: AStA-Veranstaltungen, Gäste, Sonstige | G14: variabel | H14: 2000 | I14: =SUM(H8:H13) -> 39250 | J14: Gesamt variabel | K14: AStA-Veranstaltungen, Gäste, Sonstige | L14: variabel | M14: 2000
A15: Ergebnis | C15: =SUBTOTAL(109,Tabelle19[Höhe p.A.]) -> 93250 | F15: Ergebnis | H15: =SUBTOTAL(109,Tabelle1959[Höhe p.A.]) -> 106690 | K15: Ergebnis | M15: =SUBTOTAL(109,Tabelle19595[Höhe p.A.]) -> 81680
A18: Datengrundlage: | H18: 148400
G19: FS var | H19: -31800
A20: Muster | B20: AE | C20: Anzahl | D20: Gesamt: | H20: =SUM(H18:H19) -> 116600
A21: SP-Sitzung Präsenz (22.08.2020) | B21: 3360 | C21: 3 | D21: =B21*C21 -> 10080 | H21: =-Tabelle1959[[#Totals],[Höhe p.A.]] -> -106690
A22: Online: | B22: 2310 | C22: 3 | D22: =B22*C22 -> 6930 | H22: =SUM(H20:H21) -> 9910
A23: Freie Mittel (bspw. Sondersitzungen, mehr Präsenz) | D23: 8000
A25: HHA Präsenz: | B25: 800 | C25: 3 | D25: =B25*C25 -> 2400
A26: Online: | B26: 250 | C26: 3 | D26: =B26*C26 -> 750
A27: Kassenprüfung: | B27: 800 | C27: 4 | D27: =Tabelle20[[#This Row],[AE]]*Tabelle20[[#This Row],[Anzahl]] -> 3200
A28: Freie Mittel: | D28: 1000
A30: FSR-Sitzung Präsenz | B30: 700 | C30: 3 | D30: =B30*C30 -> 2100
A31: Online: | B31: 300 | C31: 3 | D31: =B31*C31 -> 900
A33: Ergebnis | D33: =SUBTOTAL(109,Tabelle20[Gesamt:]) -> 35360

Sheet WiWi neu
A1: Haushalt der Fachschaft Wirtschaftswissenschaft
G2: Kein Nachtragshaushalt
A3: Titel | B3: Kontenbezeichnung | C3: - | D3: Erläuterung | E3: Freie Eingabe HHJ 24-25 | F3: Rechnung HHJ 24-25 | G3: Freie Eingabe NHH 23-24 | H3: Rechnung NHH 23-24 | I3: Freie Eingabe HHJ 23-24 | J3: Rechnung HHJ 23-24 | K3: IST HHJ 23-24 | L3: Freie Eingabe Plan HHJ 22-23 | M3: Rechnung HHJ 22-23 | N3: Freie Eingabe Plan HHJ 21-22 | O3: IST HHJ 21-22 | P3: Abschluss 20-21 | Q3: Plan HHJ 20-21
A4: Einnahmen
A5: 210.10 | B5: Teilnahmebeiträge Seminare | E5: 49290 | F5: =E$111 -> 49290 | G5: 46150 | H5: =E190 -> 46150 | I5: 46150 | J5: 46150 | K5: 33795.4 | L5: 56381 | M5: =E$348 -> 46150 | N5: 23000 | O5: 37605
A6: 220.10 | B6: Teilnahmebeiträge Veranstaltungen | E6: 0 | F6: =G$111 -> 0 | G6: 0 | H6: =G190 -> 200 | I6: 0 | J6: =G269 -> 200 | K6: =H269 -> 0 | L6: 0 | M6: =G$348 -> 200 | N6: 0 | O6: 0
A7: 230.10 | B7: Sonstige Einnahmen (Vorauszahlungen Bewirtung, Werbung, …) | E7: 0 | F7: =I$111 -> 0 | G7: 0 | H7: =I190 -> 500 | I7: 0 | J7: =I269 -> 500 | K7: =J269 -> 0 | L7: 0 | M7: =I$348 -> 500 | N7: 0 | O7: 0
D8: Gesamt: | E8: =SUBTOTAL(9,E5:E7) -> 49290 | F8: =SUBTOTAL(9,F5:F7) -> 49290 | G8: =SUBTOTAL(9,G5:G7) -> 46150 | H8: =SUBTOTAL(9,H5:H7) -> 46850 | I8: =SUBTOTAL(9,I5:I7) -> 46150 | J8: =SUBTOTAL(9,J5:J7) -> 46850 | K8: =SUBTOTAL(9,K5:K7) -> 33795.4 | L8: =SUBTOTAL(9,L5:L7) -> 56381 | ... O8: =SUBTOTAL(9,O5:O7) -> 37605
A9: Ausgaben
A10: 413.10 | B10: AE fest (800 € monatlich) | E10: 9600 | F10: 9600 | G10: 9600 | H10: 9600 | I10: 9600 | J10: =800*12 -> 9600 | K10: 8000 | L10: 9600 | M10: =800*12 -> 9600 | N10: =800*12 -> 9600 | O10: 9453.33
A11: 413.21 | B11: AE variabel | E11: 9500 | F11: =M$111 -> 9500 | G11: 8600 | H11: =M$190 -> 1000 | I11: 8600 | J11: =M$269 -> 2300 | K11: 4810.5 | L11: 8600 | M11: =M$348 -> 1000 | N11: 10400 | O11: 5830
A12: 527 41 | B12: Fahrtkosten und Verpflegungspauschalen | E12: 14000 | F12: =O$111 -> 14000 | G12: 15000 | H12: =O$190 -> 1500 | I12: 15000 | J12: =O$269 -> 3450 | K12: 6968.65 | L12: 15000 | M12: =O$348 -> 1500 | N12: 14000 | O12: 8591.16
A13: 529.41 | B13: Raum- und Unterkunftskosten | E13: 6000 | F13: =Q$111 -> 6148 | G13: 3000 | H13: =Q$190 -> 600 | I13: 3000 | J13: =Q$269 -> 876 | K13: 2404.48 | L13: 4200 | M13: =Q$348 -> 600 | N13: 3000 | O13: 1120
A14: 531.41 | B14: Bewirtung und Repräsentation intern | E14: 500 | F14: =S$111 -> 500 | G14: 2000 | H14: =S$190 -> 100 | I14: 2000 | J14: =S$269 -> 400 | K14: 45.9 | L14: 1000 | M14: =S$348 -> 100 | N14: 200 | O14: 118.19
A15: 551.11 | B15: Honorare Fachseminare | E15: 43750 | F15: =U$111 -> 43750 | G15: 40000 | H15: =U$190 -> 39937.5 | I15: 40000 | J15: =U$269 -> 40000 | K15: 18236.25 | L15: 45600 | M15: =U$348 -> 40000 | N15: =45000*0.7 -> 31500 | O15: 41821.25
A16: 551.21 | B16: Andere Honorare | E16: 1000 | F16: =W$111 -> 0 | G16: 1000 | H16: =W$190 -> 450 | I16: 1000 | J16: =W$269 -> 450 | L16: 2000 | M16: =W$348 -> 450 | N16: =45000*0.15 -> 6750 | O16: 0
A17: 551.31 | B17: Ext. Reisekosten | E17: 500 | F17: =Y$111 -> 0 | G17: 500 | H17: =Y$190 -> 100 | I17: 500 | J17: =Y$269 -> 100 | L17: 1100 | M17: =Y$348 -> 100 | N17: =45000*0.15 -> 6750 | O17: 0
A18: 551.41 | B18: Bewirtung und Repräsentation extern | E18: 500 | F18: =AA$111 -> 500 | G18: 500 | H18: =AA$190 -> 30 | I18: 500 | J18: =AA$269 -> 300 | K18: 0 | L18: 1500 | M18: =AA$348 -> 30 | N18: 2100 | O18: 0
A19: 551.51 | B19: Raum- und Unterkunftskosten Seminare und Veranst. | E19: 500 | F19: =AC$111 -> 500 | G19: 500 | H19: =AC$190 -> 160 | I19: 500 | J19: =AC$269 -> 0 | K19: 0 | L19: 3000 | M19: =AC$348 -> 160 | N19: 4000 | O19: 0
A20: 551.61 | B20: Verwaltungs- und Druckkosten Seminare | E20: 5000 | F20: =AE$111 -> 5240 | G20: 3500 | H20: =AE$190 -> 3825 | I20: 3500 | J20: =AE$269 -> 5175 | L20: 4000 | M20: =AE$348 -> 3825 | N20: 0 | O20: 0
A21: 551.71 | B21: Sonstige Kosten (Lizenzen, Allg. Geschäftsbetrieb) | E21: 1500 | F21: =AG$111 -> 1500 | G21: 2500 | H21: =AG$190 -> 1440 | I21: 2500 | J21: =AG$269 -> 2040 | K21: 2024.73 | L21: 3400 | M21: =AG$348 -> 1440 | N21: 4000 | O21: 2507.77
A22: 560.70 | B22: Rechtsangelegenheiten | E22: 0 | F22: =AI$111 -> 0 | G22: 0 | H22: =AI$190 -> 200 | I22: 0 | J22: =AI$269 -> 0 | K22: 0 | L22: 500 | M22: =AI$348 -> 200 | N22: 700 | O22: 0
D23: Gesamt: | E23: =SUBTOTAL(109,E10:E22) -> 92350 | F23: =SUBTOTAL(109,F10:F22) -> 91238 | G23: =SUBTOTAL(109,G10:G22) -> 86700 | H23: =SUBTOTAL(109,H10:H22) -> 58942.5 | I23: =SUBTOTAL(109,I10:I22) -> 86700 | J23: =SUBTOTAL(109,J10:J22) -> 64691 | K23: =SUBTOTAL(109,K10:K22) -> 42490.51 | L23: =SUBTOTAL(109,L10:L22) -> 99500 | ... O23: =SUBTOTAL(109,O10:O22) -> 69441.7
D25: Bilanz: | E25: =G8-Tabelle189[[#Totals],[Freie Eingabe NHH 23-24]] -> -40550 | F25: =F8-Tabelle189[[#Totals],[Rechnung HHJ 24-25]] -> -41948 | G25: =G8-Tabelle189[[#Totals],[Freie Eingabe NHH 23-24]] -> -40550 | H25: =H8-Tabelle189[[#Totals],[Rechnung NHH 23-24]] -> -12092.5 | I25: =I8-Tabelle189[[#Totals],[Freie Eingabe HHJ 23-24]] -> -40550 | J25: =J8-Tabelle189[[#Totals],[Rechnung HHJ 23-24]] -> -17841 | K25: =K8-Tabelle189[[#Totals],[IST HHJ 23-24]] -> -8695.11 | L25: =L8-Tabelle189[[#Totals],[Freie Eingabe Plan HHJ 22-23]] -> -43119 | M25: =M8-Tabelle189[[#Totals],[Rechnung HHJ 22-23]] -> -12155 | N25: =N8-Tabelle189[[#Totals],[Freie Eingabe Plan HHJ 21-22]] -> -70000 | O25: =O8-Tabelle189[[#Totals],[IST HHJ 21-22]] -> -31836.7
A30: Kalkulationen und Auswertungen
A32: Deckungsfähigkeiten: Die Ausgaben der Fachschaft sind untereineinander teilweise deckungsfähig. Einnahmen über Plan verstärken Gegentitel. Mittel aus den Konten 551.11 bis 551.51 dürfen nicht zur Deckung von anderen Konten verwendet werden: Keine Verschiebung vom Seminarbetrieb zum Verwaltungsbetrieb. | E32: Teilnahmebeiträge Seminare | F32: IST | G32: Teilnahmebeiträge Veranstaltungen | H32: IST | I32: Sonstige Einnahmen (Vorauszahlungen Bewirtung, Werbung, …) | J32: IST | K32: AE fest (800 € monatlich) | L32: IST | M32: AE variabel | N32: IST | O32: Fahrtkosten und Verpflegungspauschalen intern | P32: IST | Q32: Raum- und Unterkunftskosten intern | R32: IST | S32: Bewirtung und Repräsentation intern | T32: IST | U32: Honorare Fachseminare | V32: IST | W32: Andere Honorare | X32: IST | Y32: Ext. Reisekosten | Z32: IST | AA32: Bewirtung und Repräsentation extern | AB32: IST | AC32: Raum- und Unterkunftskosten extern | AD32: IST | AE32: Verwaltungs- und Druckkosten | AF32: IST | AG32: Sonstige Kosten (Lizenzen, Allg. Geschäftsbetrieb) | AH32: IST | AI32: Rechtsangelegenheiten | AK32: Bilanz SOLL | AL32: Bilanz IST
A34: SOLL und IST HHJ 24-25
D35: Haushaltstitel: | E35: 210.10 | F35: IST | G35: 220.10 | H35: IST | I35: 230.10 | J35: IST | K35: 413.10 | L35: IST | M35: 413.21 | N35: IST | O35: 527 41 | P35: IST | Q35: 529.41 | R35: IST | S35: 531.41 | T35: IST | U35: 551.11 | V35: IST | W35: 551.21 | X35: IST | Y35: 551.31 | Z35: IST | AA35: 551.41 | AB35: IST | AC35: 551.51 | AD35: IST | AE35: 551.61 | AF35: IST | AG35: 551.71 | AH35: IST | AI35: 560.70 | AJ35: IST | AK35: Bilanz SOLL | AL35: Bilanz IST
A36: Seminarplan | B36: Was? | C36: Datum/Ort | D36: Dozierende o. Beschreibung
B37: Basiskalkulationen: Anteilige Aufwandsentschädigungen Seminarkoordination: 1.200 € durch Anzahl der Seminare. Hier 50, ergibt gerundet 24 € AE pro Seminar. Es werden den Dozierenden je nach Qualifikation Honorare zwischen 40 und 50 € entsprechend dem Rahmenbeschluss des FSR WiWi ausbezahlt. Grundsätzlich wird sich hier am Rahmen der Entlohnung von Dozierenden an der FernUni bewegt. Anteilige Kosten Seminarportal wundercoach: 1.200 €/Jahr = 24/Seminar; Verwaltungskosten: 3 € pro Teilnehmer; Zoom: Anteilig ca. 140 €/Jahr = 2,80 €/Seminar
B38: 50 Online-Seminare entsprechend des Beschlusses des Fachschaftsrates WiWi | E38: 49290 | U38: 43750 | W38: 1200 | AE38: 3000 | AK38: =SUM(E38,G38,I38)-SUM(K38,M38,O38,Q38,S38,U38,W38,Y38,AA38,AC38,AE38,AG38,AI38) -> 1340 | AL38: =SUM(F38,H38,J38)-SUM(L38,N38,P38,R38,T38,V38,X38,Z38,AB38,AD38,AF38,AH38,AJ38) -> 0
B39: Wundercoach | AE39: 1200 | AK39: =SUM(E39,G39,I39)-SUM(K39,M39,O39,Q39,S39,U39,W39,Y39,AA39,AC39,AE39,AG39,AI39) -> -1200 | AL39: =SUM(F39,H39,J39)-SUM(L39,N39,P39,R39,T39,V39,X39,Z39,AB39,AD39,AF39,AH39,AJ39) -> 0
B40: Zoom-Lizenz | AE40: 140 | AK40: =SUM(E40,G40,I40)-SUM(K40,M40,O40,Q40,S40,U40,W40,Y40,AA40,AC40,AE40,AG40,AI40) -> -140 | AL40: =SUM(F40,H40,J40)-SUM(L40,N40,P40,R40,T40,V40,X40,Z40,AB40,AD40,AF40,AH40,AJ40) -> 0
AK41: =SUM(E41,G41,I41)-SUM(K41,M41,O41,Q41,S41,U41,W41,Y41,AA41,AC41,AE41,AG41,AI41) -> 0 | AL41: =SUM(F41,H41,J41)-SUM(L41,N41,P41,R41,T41,V41,X41,Z41,AB41,AD41,AF41,AH41,AJ41) -> 0
AK42: =SUM(E42,G42,I42)-SUM(K42,M42,O42,Q42,S42,U42,W42,Y42,AA42,AC42,AE42,AG42,AI42) -> 0 | AL42: =SUM(F42,H42,J42)-SUM(L42,N42,P42,R42,T42,V42,X42,Z42,AB42,AD42,AF42,AH42,AJ42) -> 0
B43: Freie Mittel | AK43: =SUM(E43,G43,I43)-SUM(K43,M43,O43,Q43,S43,U43,W43,Y43,AA43,AC43,AE43,AG43,AI43) -> 0 | AL43: =SUM(F43,H43,J43)-SUM(L43,N43,P43,R43,T43,V43,X43,Z43,AB43,AD43,AF43,AH43,AJ43) -> 0
AK44: =SUM(E44,G44,I44)-SUM(K44,M44,O44,Q44,S44,U44,W44,Y44,AA44,AC44,AE44,AG44,AI44) -> 0 | AL44: =SUM(F44,H44,J44)-SUM(L44,N44,P44,R44,T44,V44,X44,Z44,AB44,AD44,AF44,AH44,AJ44) -> 0
AK45: =SUM(E45,G45,I45)-SUM(K45,M45,O45,Q45,S45,U45,W45,Y45,AA45,AC45,AE45,AG45,AI45) -> 0 | AL45: =SUM(F45,H45,J45)-SUM(L45,N45,P45,R45,T45,V45,X45,Z45,AB45,AD45,AF45,AH45,AJ45) -> 0
AK46: =SUM(E46,G46,I46)-SUM(K46,M46,O46,Q46,S46,U46,W46,Y46,AA46,AC46,AE46,AG46,AI46) -> 0 | AL46: =SUM(F46,H46,J46)-SUM(L46,N46,P46,R46,T46,V46,X46,Z46,AB46,AD46,AF46,AH46,AJ46) -> 0
AK47: =SUM(E47,G47,I47)-SUM(K47,M47,O47,Q47,S47,U47,W47,Y47,AA47,AC47,AE47,AG47,AI47) -> 0 | AL47: =SUM(F47,H47,J47)-SUM(L47,N47,P47,R47,T47,V47,X47,Z47,AB47,AD47,AF47,AH47,AJ47) -> 0
...

Sheet KSW neu
A1: Haushalt der Fachschaft KSW
G2: Kein Nachtragshaushalt
A3: Titel | B3: Kontenbezeichnung | C3: - | D3: Erläuterung | E3: Freie Eingabe HHJ 24-25 | F3: Rechnung HHJ 24-25 | G3: Freie Eingabe NHH 23-24 | H3: Rechnung NHH 23-24 | I3: Freie Eingabe HHJ 23-24 | J3: Rechnung HHJ 23-24 | K3: IST HHJ 23-24 | L3: Freie Eingabe Plan HHJ 22-23 | M3: Rechnung HHJ 22-23 | N3: Freie Eingabe Plan HHJ 21-22 | O3: IST HHJ 21-22 | P3: Abschluss 20-21 | Q3: Plan HHJ 20-21
A4: Einnahmen
A5: 210.10 | B5: Teilnahmebeiträge Seminare | E5: 4500 | F5: =E$111 -> 0 | H5: =E190 -> 0 | J5: =E269 -> 0 | M5: =E$348 -> 0
A6: 220.10 | B6: Teilnahmebeiträge Veranstaltungen | F6: =G$111 -> 0 | H6: =G190 -> 0 | J6: =G269 -> 0 | M6: =G$348 -> 0
A7: 230.10 | B7: Sonstige Einnahmen (Vorauszahlungen Bewirtung, Werbung, …) | F7: =I$111 -> 0 | H7: =I190 -> 0 | J7: =I269 -> 0 | M7: =I$348 -> 0
D8: Gesamt: | E8: =SUBTOTAL(9,E5:E7) -> 4500 | F8: =SUBTOTAL(9,F5:F7) -> 0 | G8: =SUBTOTAL(9,G5:G7) -> 0 | H8: =SUBTOTAL(9,H5:H7) -> 0 | I8: =SUBTOTAL(9,I5:I7) -> 0 | J8: =SUBTOTAL(9,J5:J7) -> 0 | K8: =SUBTOTAL(9,K5:K7) -> 0 | L8: =SUBTOTAL(9,L5:L7) -> 0 | ... O8: =SUBTOTAL(9,O5:O7) -> 0
A9: Ausgaben
A10: 413.10 | B10: AE fest (800 € monatlich) | E10: 9600 | F10: 9600 | G10: 9600 | H10: 9600 | I10: 9600 | J10: =800*12 -> 9600 | M10: =800*12 -> 9600
A11: 413.21 | B11: AE variabel | E11: 2000 | F11: =M$111 -> 0 | H11: =M$190 -> 0 | J11: =M$269 -> 0 | M11: =M$348 -> 0
A12: 527 41 | B12: Fahrtkosten und Verpflegungspauschalen | E12: 2000 | F12: =O$111 -> 0 | H12: =O$190 -> 0 | J12: =O$269 -> 0 | M12: =O$348 -> 0
A13: 529.41 | B13: Raum- und Unterkunftskosten | E13: 1500 | F13: =Q$111 -> 0 | H13: =Q$190 -> 0 | J13: =Q$269 -> 0 | M13: =Q$348 -> 0
A14: 531.41 | B14: Bewirtung und Repräsentation intern | E14: 500 | F14: =S$111 -> 0 | H14: =S$190 -> 0 | J14: =S$269 -> 0 | M14: =S$348 -> 0
A15: 551.11 | B15: Honorare Fachseminare | E15: 4000 | F15: =U$111 -> 0 | H15: =U$190 -> 0 | J15: =U$269 -> 0 | M15: =U$348 -> 0
A16: 551.21 | B16: Andere Honorare | E16: 2000 | F16: =W$111 -> 0 | H16: =W$190 -> 0 | J16: =W$269 -> 0 | M16: =W$348 -> 0
A17: 551.31 | B17: Ext. Reisekosten | E17: 500 | F17: =Y$111 -> 0 | H17: =Y$190 -> 0 | J17: =Y$269 -> 0 | M17: =Y$348 -> 0
A18: 551.41 | B18: Bewirtung und Repräsentation extern | E18: 300 | F18: =AA$111 -> 0 | H18: =AA$190 -> 0 | J18: =AA$269 -> 0 | M18: =AA$348 -> 0
A19: 551.51 | B19: Raum- und Unterkunftskosten Seminare und Veranst. | E19: 500 | F19: =AC$111 -> 0 | H19: =AC$190 -> 0 | J19: =AC$269 -> 0 | M19: =AC$348 -> 0
A20: 551.61 | B20: Verwaltungs- und Druckkosten Seminare | E20: 500 | F20: =AE$111 -> 0 | H20: =AE$190 -> 0 | J20: =AE$269 -> 0 | M20: =AE$348 -> 0
A21: 551.71 | B21: Sonstige Kosten (Lizenzen, Allg. Geschäftsbetrieb) | E21: 500 | F21: =AG$111 -> 0 | H21: =AG$190 -> 0 | J21: =AG$269 -> 0 | M21: =AG$348 -> 0
A22: 560.70 | B22: Rechtsangelegenheiten | E22: 300 | F22: =AI$111 -> 0 | H22: =AI$190 -> 0 | J22: =AI$269 -> 0 | M22: =AI$348 -> 0
D23: Gesamt: | E23: =SUBTOTAL(109,E10:E22) -> 24200 | F23: =SUBTOTAL(109,F10:F22) -> 9600 | G23: =SUBTOTAL(109,G10:G22) -> 9600 | H23: =SUBTOTAL(109,H10:H22) -> 9600 | I23: =SUBTOTAL(109,I10:I22) -> 9600 | J23: =SUBTOTAL(109,J10:J22) -> 9600 | K23: =SUBTOTAL(109,K10:K22) -> 0 | L23: =SUBTOTAL(109,L10:L22) -> 0 | ... O23: =SUBTOTAL(109,O10:O22) -> 0
D25: Bilanz: | E25: =E8-Tabelle18966[[#Totals],[Freie Eingabe HHJ 24-25]] -> -19700 | F25: =F8-Tabelle18966[[#Totals],[Rechnung HHJ 24-25]] -> -9600 | G25: =G8-Tabelle18966[[#Totals],[Freie Eingabe NHH 23-24]] -> -9600 | H25: =H8-Tabelle18966[[#Totals],[Rechnung NHH 23-24]] -> -9600 | I25: =I8-Tabelle18966[[#Totals],[Freie Eingabe HHJ 23-24]] -> -9600 | J25: =J8-Tabelle18966[[#Totals],[Rechnung HHJ 23-24]] -> -9600 | K25: =K8-Tabelle18966[[#Totals],[IST HHJ 23-24]] -> 0 | L25: =L8-Tabelle18966[[#Totals],[Freie Eingabe Plan HHJ 22-23]] -> 0 | M25: =M8-Tabelle18966[[#Totals],[Rechnung HHJ 22-23]] -> -9600 | N25: =N8-Tabelle18966[[#Totals],[Freie Eingabe Plan HHJ 21-22]] -> 0 | O25: =O8-Tabelle18966[[#Totals],[IST HHJ 21-22]] -> 0
A30: Kalkulationen und Auswertungen
A32: Deckungsfähigkeiten: Die Ausgaben der Fachschaft sind untereineinander teilweise deckungsfähig. Einnahmen über Plan verstärken Gegentitel. Mittel aus den Konten 551.11 bis 551.51 dürfen nicht zur Deckung von anderen Konten verwendet werden: Keine Verschiebung vom Seminarbetrieb zum Verwaltungsbetrieb. | E32: Teilnahmebeiträge Seminare | F32: IST | G32: Teilnahmebeiträge Veranstaltungen | H32: IST | I32: Sonstige Einnahmen (Vorauszahlungen Bewirtung, Werbung, …) | J32: IST | K32: AE fest (800 € monatlich) | L32: IST | M32: AE variabel | N32: IST | O32: Fahrtkosten und Verpflegungspauschalen intern | P32: IST | Q32: Raum- und Unterkunftskosten intern | R32: IST | S32: Bewirtung und Repräsentation intern | T32: IST | U32: Honorare Fachseminare | V32: IST | W32: Andere Honorare | X32: IST | Y32: Ext. Reisekosten | Z32: IST | AA32: Bewirtung und Repräsentation extern | AB32: IST | AC32: Raum- und Unterkunftskosten extern | AD32: IST | AE32: Verwaltungs- und Druckkosten | AF32: IST | AG32: Sonstige Kosten (Lizenzen, Allg. Geschäftsbetrieb) | AH32: IST | AI32: Rechtsangelegenheiten | AK32: Bilanz SOLL | AL32: Bilanz IST
A34: SOLL und IST HHJ 24-25
D35: Haushaltstitel: | E35: 210.10 | F35: IST | G35: 220.10 | H35: IST | I35: 230.10 | J35: IST | K35: 413.10 | L35: IST | M35: 413.21 | N35: IST | O35: 527 41 | P35: IST | Q35: 529.41 | R35: IST | S35: 531.41 | T35: IST | U35: 551.11 | V35: IST | W35: 551.21 | X35: IST | Y35: 551.31 | Z35: IST | AA35: 551.41 | AB35: IST | AC35: 551.51 | AD35: IST | AE35: 551.61 | AF35: IST | AG35: 551.71 | AH35: IST | AI35: 560.70 | AJ35: IST | AK35: Bilanz SOLL | AL35: Bilanz IST
A36: Seminarplan | B36: Was? | C36: Datum/Ort | D36: Dozierende o. Beschreibung
B37: Basiskalkulationen: Anteilige Aufwandsentschädigungen Seminarkoordination: 1.200 € durch Anzahl der Seminare. Hier 50, ergibt gerundet 24 € AE pro Seminar. Es werden den Dozierenden je nach Qualifikation Honorare zwischen 40 und 50 € entsprechend dem Rahmenbeschluss des FSR WiWi ausbezahlt. Grundsätzlich wird sich hier am Rahmen der Entlohnung von Dozierenden an der FernUni bewegt. Anteilige Kosten Seminarportal wundercoach: 1.200 €/Jahr = 24/Seminar; Verwaltungskosten: 3 € pro Teilnehmer; Zoom: Anteilig ca. 140 €/Jahr = 2,80 €/Seminar
B38: 50 Online-Seminare entsprechend des Beschlusses des Fachschaftsrates WiWi | AK38: =SUM(E38,G38,I38)-SUM(K38,M38,O38,Q38,S38,U38,W38,Y38,AA38,AC38,AE38,AG38,AI38) -> 0 | AL38: =SUM(F38,H38,J38)-SUM(L38,N38,P38,R38,T38,V38,X38,Z38,AB38,AD38,AF38,AH38,AJ38) -> 0
B39: Wundercoach | AK39: =SUM(E39,G39,I39)-SUM(K39,M39,O39,Q39,S39,U39,W39,Y39,AA39,AC39,AE39,AG39,AI39) -> 0 | AL39: =SUM(F39,H39,J39)-SUM(L39,N39,P39,R39,T39,V39,X39,Z39,AB39,AD39,AF39,AH39,AJ39) -> 0
B40: Zoom-Lizenz | AK40: =SUM(E40,G40,I40)-SUM(K40,M40,O40,Q40,S40,U40,W40,Y40,AA40,AC40,AE40,AG40,AI40) -> 0 | AL40: =SUM(F40,H40,J40)-SUM(L40,N40,P40,R40,T40,V40,X40,Z40,AB40,AD40,AF40,AH40,AJ40) -> 0
AK41: =SUM(E41,G41,I41)-SUM(K41,M41,O41,Q41,S41,U41,W41,Y41,AA41,AC41,AE41,AG41,AI41) -> 0 | AL41: =SUM(F41,H41,J41)-SUM(L41,N41,P41,R41,T41,V41,X41,Z41,AB41,AD41,AF41,AH41,AJ41) -> 0
AK42: =SUM(E42,G42,I42)-SUM(K42,M42,O42,Q42,S42,U42,W42,Y42,AA42,AC42,AE42,AG42,AI42) -> 0 | AL42: =SUM(F42,H42,J42)-SUM(L42,N42,P42,R42,T42,V42,X42,Z42,AB42,AD42,AF42,AH42,AJ42) -> 0
B43: Freie Mittel | AK43: =SUM(E43,G43,I43)-SUM(K43,M43,O43,Q43,S43,U43,W43,Y43,AA43,AC43,AE43,AG43,AI43) -> 0 | AL43: =SUM(F43,H43,J43)-SUM(L43,N43,P43,R43,T43,V43,X43,Z43,AB43,AD43,AF43,AH43,AJ43) -> 0
AK44: =SUM(E44,G44,I44)-SUM(K44,M44,O44,Q44,S44,U44,W44,Y44,AA44,AC44,AE44,AG44,AI44) -> 0 | AL44: =SUM(F44,H44,J44)-SUM(L44,N44,P44,R44,T44,V44,X44,Z44,AB44,AD44,AF44,AH44,AJ44) -> 0
AK45: =SUM(E45,G45,I45)-SUM(K45,M45,O45,Q45,S45,U45,W45,Y45,AA45,AC45,AE45,AG45,AI45) -> 0 | AL45: =SUM(F45,H45,J45)-SUM(L45,N45,P45,R45,T45,V45,X45,Z45,AB45,AD45,AF45,AH45,AJ45) -> 0
AK46: =SUM(E46,G46,I46)-SUM(K46,M46,O46,Q46,S46,U46,W46,Y46,AA46,AC46,AE46,AG46,AI46) -> 0 | AL46: =SUM(F46,H46,J46)-SUM(L46,N46,P46,R46,T46,V46,X46,Z46,AB46,AD46,AF46,AH46,AJ46) -> 0
AK47: =SUM(E47,G47,I47)-SUM(K47,M47,O47,Q47,S47,U47,W47,Y47,AA47,AC47,AE47,AG47,AI47) -> 0 | AL47: =SUM(F47,H47,J47)-SUM(L47,N47,P47,R47,T47,V47,X47,Z47,AB47,AD47,AF47,AH47,AJ47) -> 0
...

Sheet PSY neu
A1: Haushalt der Fachschaft Psychologie
G2: Kein Nachtragshaushalt
A3: Titel | B3: Kontenbezeichnung | C3: - | D3: Erläuterung | E3: Freie Eingabe HHJ 24-25 | F3: Rechnung HHJ 24-25 | G3: Freie Eingabe NHH 23-24 | H3: Rechnung NHH 23-24 | I3: Freie Eingabe HHJ 23-24 | J3: Rechnung HHJ 23-24 | K3: IST HHJ 23-24 | L3: Freie Eingabe Plan HHJ 22-23 | M3: Rechnung HHJ 22-23 | N3: Freie Eingabe Plan HHJ 21-22 | O3: IST HHJ 21-22 | P3: Abschluss 20-21 | Q3: Plan HHJ 20-21
A4: Einnahmen
